BEGIN:VCALENDAR
VERSION:2.0
PRODID:-//Grüne Münster - ECPv6.15.20//NONSGML v1.0//EN
CALSCALE:GREGORIAN
METHOD:PUBLISH
X-WR-CALNAME:Grüne Münster
X-ORIGINAL-URL:https://gruene-muenster.de
X-WR-CALDESC:Veranstaltungen für Grüne Münster
REFRESH-INTERVAL;VALUE=DURATION:PT1H
X-Robots-Tag:noindex
X-PUBLISHED-TTL:PT1H
BEGIN:VTIMEZONE
TZID:Europe/Berlin
BEGIN:DAYLIGHT
TZOFFSETFROM:+0100
TZOFFSETTO:+0200
TZNAME:CEST
DTSTART:20250330T010000
END:DAYLIGHT
BEGIN:STANDARD
TZOFFSETFROM:+0200
TZOFFSETTO:+0100
TZNAME:CET
DTSTART:20251026T010000
END:STANDARD
BEGIN:DAYLIGHT
TZOFFSETFROM:+0100
TZOFFSETTO:+0200
TZNAME:CEST
DTSTART:20260329T010000
END:DAYLIGHT
BEGIN:STANDARD
TZOFFSETFROM:+0200
TZOFFSETTO:+0100
TZNAME:CET
DTSTART:20261025T010000
END:STANDARD
BEGIN:DAYLIGHT
TZOFFSETFROM:+0100
TZOFFSETTO:+0200
TZNAME:CEST
DTSTART:20270328T010000
END:DAYLIGHT
BEGIN:STANDARD
TZOFFSETFROM:+0200
TZOFFSETTO:+0100
TZNAME:CET
DTSTART:20271031T010000
END:STANDARD
END:VTIMEZONE
BEGIN:VEVENT
DTSTART;TZID=Europe/Berlin:20260423T190000
DTEND;TZID=Europe/Berlin:20260423T210000
DTSTAMP:20260423T021638
CREATED:20240416T082934Z
LAST-MODIFIED:20251106T085049Z
UID:10011109-1776970800-1776978000@gruene-muenster.de
SUMMARY:AG Demokratie und Antifaschismus
DESCRIPTION:Die AG Demokratie und Antifaschismus trifft sich alle zwei Wochen am Donnerstag um 19:00 Uhr im GrüZe.
URL:https://gruene-muenster.de/termin/ag-antifaschismus/2026-04-23/
LOCATION:Grünes Zentrum (barrierefrei)\, Windthorststr. 7\, Münster\, 48143
CATEGORIES:Arbeitsgruppe,AG Antifaschismus
END:VEVENT
BEGIN:VEVENT
DTSTART;TZID=Europe/Berlin:20260423T190000
DTEND;TZID=Europe/Berlin:20260423T210000
DTSTAMP:20260423T021638
CREATED:20260225T141438Z
LAST-MODIFIED:20260225T141755Z
UID:10013171-1776970800-1776978000@gruene-muenster.de
SUMMARY:AG Kinder-\, Jugend- und Familienpolitik
DESCRIPTION:Die AG Kinder\, Jugend und Familien (KiJuFa) diskutiert Themen wie z.B. Qualität in der Kindertagesbetreuung und der offenen Ganztagsschule\, die Weiterentwicklung der Hilfen zur Erziehung oder der Offenen Kinder- und Jugendarbeit\, Prävention von Kinder- und Jugendarmut\, bildungspolitische Themen sowie Ansätze einer einmischenden Jugendpolitik. Der Fokus unserer inhaltlichen Arbeit liegt auf der Kommunalpolitik – wenngleich die Landes- und Bundespolitik im Blick und Kontakt zu diesen Ebenen gehalten wird. \nDer Ort kann bei Leon Herbstmann angefragt werden.
URL:https://gruene-muenster.de/termin/ag-kinder-jugend-und-familienpolitik/2026-04-23/
LOCATION:Auf Anfrage
CATEGORIES:Arbeitsgruppe,AG Kinder-, Jugend- und Familienpolitik
END:VEVENT
BEGIN:VEVENT
DTSTART;TZID=Europe/Berlin:20260423T190000
DTEND;TZID=Europe/Berlin:20260423T213000
DTSTAMP:20260423T021638
CREATED:20231129T115851Z
LAST-MODIFIED:20241213T163436Z
UID:10003929-1776970800-1776979800@gruene-muenster.de
SUMMARY:Plenum Grüne Jugend Münster
DESCRIPTION:Das Plenum des Kaktus (Grüne Jugend Münster) tagt jede Woche Donnerstag von 19:00 bis ca. 21:00
URL:https://gruene-muenster.de/termin/kaktus-plenum-2/2026-04-23/
LOCATION:Grünes Zentrum (barrierefrei)\, Windthorststr. 7\, Münster\, 48143
CATEGORIES:Kaktus
END:VEVENT
END:VCALENDAR