BEGIN:VCALENDAR
VERSION:2.0
PRODID:-//Grüne Münster - ECPv6.15.20//NONSGML v1.0//EN
CALSCALE:GREGORIAN
METHOD:PUBLISH
X-WR-CALNAME:Grüne Münster
X-ORIGINAL-URL:https://gruene-muenster.de
X-WR-CALDESC:Veranstaltungen für Grüne Münster
REFRESH-INTERVAL;VALUE=DURATION:PT1H
X-Robots-Tag:noindex
X-PUBLISHED-TTL:PT1H
BEGIN:VTIMEZONE
TZID:Europe/Berlin
BEGIN:DAYLIGHT
TZOFFSETFROM:+0100
TZOFFSETTO:+0200
TZNAME:CEST
DTSTART:20250330T010000
END:DAYLIGHT
BEGIN:STANDARD
TZOFFSETFROM:+0200
TZOFFSETTO:+0100
TZNAME:CET
DTSTART:20251026T010000
END:STANDARD
BEGIN:DAYLIGHT
TZOFFSETFROM:+0100
TZOFFSETTO:+0200
TZNAME:CEST
DTSTART:20260329T010000
END:DAYLIGHT
BEGIN:STANDARD
TZOFFSETFROM:+0200
TZOFFSETTO:+0100
TZNAME:CET
DTSTART:20261025T010000
END:STANDARD
BEGIN:DAYLIGHT
TZOFFSETFROM:+0100
TZOFFSETTO:+0200
TZNAME:CEST
DTSTART:20270328T010000
END:DAYLIGHT
BEGIN:STANDARD
TZOFFSETFROM:+0200
TZOFFSETTO:+0100
TZNAME:CET
DTSTART:20271031T010000
END:STANDARD
END:VTIMEZONE
BEGIN:VEVENT
DTSTART;TZID=Europe/Berlin:20260421T190000
DTEND;TZID=Europe/Berlin:20260421T210000
DTSTAMP:20260421T154913
CREATED:20230425T043512Z
LAST-MODIFIED:20260407T124709Z
UID:10003459-1776798000-1776805200@gruene-muenster.de
SUMMARY:AG Stadtentwicklung und Mobilität
DESCRIPTION:Die AG Stadtentwicklung und Mobilität trifft sich alle zwei Wochen im Grünen Zentrum. In der Regel ist auch eine Online-Teilnahme möglich.
URL:https://gruene-muenster.de/termin/ag-stadtentwicklung-und-mobilitaet/2026-04-21/
LOCATION:Grünes Zentrum (barrierefrei)\, Windthorststr. 7\, Münster\, 48143
CATEGORIES:Arbeitsgruppe,AG Stadtentwicklung und Mobilität
ORGANIZER;CN="AG Stadtentwicklung und Mobilit%C3%A4t":MAILTO:agstadtmobi@gruene-muenster.de
END:VEVENT
BEGIN:VEVENT
DTSTART;TZID=Europe/Berlin:20260421T190000
DTEND;TZID=Europe/Berlin:20260421T213000
DTSTAMP:20260421T154913
CREATED:20230519T084956Z
LAST-MODIFIED:20260310T121136Z
UID:10002737-1776798000-1776807000@gruene-muenster.de
SUMMARY:CampusGrün
DESCRIPTION:CampusGrün trifft sich in der Vorlesungszeit jeden Dienstag um 19:00 im Grünen Zentrum.
URL:https://gruene-muenster.de/termin/campusgruen/2026-04-21/
LOCATION:Grünes Zentrum (barrierefrei)\, Windthorststr. 7\, Münster\, 48143
CATEGORIES:Campus Grün
END:VEVENT
END:VCALENDAR